BEGIN:VCALENDAR
VERSION:2.0
PRODID:-//Jazzlandprogramm - ECPv6.15.18//NONSGML v1.0//EN
CALSCALE:GREGORIAN
METHOD:PUBLISH
X-WR-CALNAME:Jazzlandprogramm
X-ORIGINAL-URL:https://www.jazzland.co.at
X-WR-CALDESC:Veranstaltungen für Jazzlandprogramm
REFRESH-INTERVAL;VALUE=DURATION:PT1H
X-Robots-Tag:noindex
X-PUBLISHED-TTL:PT1H
BEGIN:VTIMEZONE
TZID:Europe/Vienna
BEGIN:DAYLIGHT
TZOFFSETFROM:+0100
TZOFFSETTO:+0200
TZNAME:CEST
DTSTART:20250330T010000
END:DAYLIGHT
BEGIN:STANDARD
TZOFFSETFROM:+0200
TZOFFSETTO:+0100
TZNAME:CET
DTSTART:20251026T010000
END:STANDARD
BEGIN:DAYLIGHT
TZOFFSETFROM:+0100
TZOFFSETTO:+0200
TZNAME:CEST
DTSTART:20260329T010000
END:DAYLIGHT
BEGIN:STANDARD
TZOFFSETFROM:+0200
TZOFFSETTO:+0100
TZNAME:CET
DTSTART:20261025T010000
END:STANDARD
BEGIN:DAYLIGHT
TZOFFSETFROM:+0100
TZOFFSETTO:+0200
TZNAME:CEST
DTSTART:20270328T010000
END:DAYLIGHT
BEGIN:STANDARD
TZOFFSETFROM:+0200
TZOFFSETTO:+0100
TZNAME:CET
DTSTART:20271031T010000
END:STANDARD
END:VTIMEZONE
BEGIN:VEVENT
DTSTART;VALUE=DATE:20260605
DTEND;VALUE=DATE:20260607
DTSTAMP:20260419T150940
CREATED:20260418T175613Z
LAST-MODIFIED:20260418T175613Z
UID:4727-1780624800-1780711199@www.jazzland.co.at
SUMMARY:The “Notes & Tones Jazz Orchestra“ remembers Jim Rotondi
DESCRIPTION:Der Trompeter Jim Rotondi ist im Sommer 2024 völlig unerwartet und viel zu früh verstorben. Rotondi\, der zuerst in der New Yorker Szene u.a. mit seinem Hardbop-Sextett „One For All“ im Dunstkreis der New Yorker Clubs „Smalls“ oder „Smoke“ Bekanntheit erlangte\, der durch sein expressives\, virtuoses Spiel\, ganze Generationen von Jazzliebhabern beeindruckte. Rotondi\, der dann aber seinen Lebensmittelpunkt nach Europa verlagerte\, um zwischen Frankreich und Österreich zu pendeln. Nach Frankreich verschlug ihn die Liebe\, in Graz war er Professor für Jazztrompete. 2021 taten sich dann der Arrangeur Jakob Helling und Jim mit dem Wiener „Notes and Tones Jazz Orchestra“ zusammen\, um gemeinsam das Album „Finesse“ im Studio des Konzerthauses aufzunehmen. Das Album featured ausschließlich Rotondis Kompositionen – in orchestralem Gewand\, bei einigen Stücken gar mit Sinfonieorchester. Nun kehrt das „Notes and Tones Jazz Orchestra“ der Co-Leader Mario Gonzi und Daniel Nösig unter Dirigat von Jakob Helling für zwei Abende zurück zu uns ins Jazzland – ganz im Spirit des phänomenalen Jim Rotondi – mit einigen der heißesten Cats der Wiener Szene! Daniel Nösig\, co-leader\, Gerhard Ornig\, Leo Grassauer\, Zan Cesar\, Marek Stibor tp; Karel Eriksson\, Johannes Herrlich\, Daniel Holzleitner tb; Christian Amstätter btb\, Markus Harm\, Marton Papp\, Anna Tsombanis\, Fabio Devigili\, Herwig „Henk“ Gradischnig saxes; Oliver Kent p\, Uli Langthaler b\, Mario Gonzi\, co-leader\, dm; Conductor: Jakob Helling.
URL:https://www.jazzland.co.at/event/the-notes-tones-jazz-orchestra-remembers-jim-rotondi/
LOCATION:Jazzland\, Franz-Josefskai 29\, Wien\, Wien\, 1010\, Österreich
CATEGORIES:(Mainstream)
ATTACH;FMTTYPE=image/jpeg:https://www.jazzland.co.at/wp-content/uploads/2023/04/D72_1567-scaled.jpg
END:VEVENT
BEGIN:VEVENT
DTSTART;VALUE=DATE:20260606
DTEND;VALUE=DATE:20260608
DTSTAMP:20260419T150940
CREATED:20260418T175852Z
LAST-MODIFIED:20260418T175927Z
UID:4729-1780711200-1780797599@www.jazzland.co.at
SUMMARY:The “Notes & Tones Jazz Orchestra“ remembers Jim Rotondi
DESCRIPTION:Der Trompeter Jim Rotondi ist im Sommer 2024 völlig unerwartet und viel zu früh verstorben. Rotondi\, der zuerst in der New Yorker Szene u.a. mit seinem Hardbop-Sextett „One For All“ im Dunstkreis der New Yorker Clubs „Smalls“ oder „Smoke“ Bekanntheit erlangte\, der durch sein expressives\, virtuoses Spiel\, ganze Generationen von Jazzliebhabern beeindruckte. Rotondi\, der dann aber seinen Lebensmittelpunkt nach Europa verlagerte\, um zwischen Frankreich und Österreich zu pendeln. Nach Frankreich verschlug ihn die Liebe\, in Graz war er Professor für Jazztrompete. 2021 taten sich dann der Arrangeur Jakob Helling und Jim mit dem Wiener „Notes and Tones Jazz Orchestra“ zusammen\, um gemeinsam das Album „Finesse“ im Studio des Konzerthauses aufzunehmen. Das Album featured ausschließlich Rotondis Kompositionen – in orchestralem Gewand\, bei einigen Stücken gar mit Sinfonieorchester. Nun kehrt das „Notes and Tones Jazz Orchestra“ der Co-Leader Mario Gonzi und Daniel Nösig unter Dirigat von Jakob Helling für zwei Abende zurück zu uns ins Jazzland – ganz im Spirit des phänomenalen Jim Rotondi – mit einigen der heißesten Cats der Wiener Szene! Daniel Nösig\, co-leader\, Gerhard Ornig\, Leo Grassauer\, Zan Cesar\, Marek Stibor tp; Karel Eriksson\, Johannes Herrlich\, Daniel Holzleitner tb; Christian Amstätter btb\, Markus Harm\, Marton Papp\, Anna Tsombanis\, Fabio Devigili\, Herwig „Henk“ Gradischnig saxes; Oliver Kent p\, Uli Langthaler b\, Mario Gonzi\, co-leader\, dm; Conductor: Jakob Helling.
URL:https://www.jazzland.co.at/event/4729/
LOCATION:Jazzland\, Franz-Josefskai 29\, Wien\, Wien\, 1010\, Österreich
CATEGORIES:(Mainstream)
ATTACH;FMTTYPE=image/jpeg:https://www.jazzland.co.at/wp-content/uploads/2026/04/D72_6091-scaled.jpg
END:VEVENT
END:VCALENDAR