BEGIN:VCALENDAR
VERSION:2.0
PRODID:-//Jazzlandprogramm - ECPv6.15.18//NONSGML v1.0//EN
CALSCALE:GREGORIAN
METHOD:PUBLISH
X-ORIGINAL-URL:https://www.jazzland.co.at
X-WR-CALDESC:Veranstaltungen für Jazzlandprogramm
REFRESH-INTERVAL;VALUE=DURATION:PT1H
X-Robots-Tag:noindex
X-PUBLISHED-TTL:PT1H
BEGIN:VTIMEZONE
TZID:Europe/Vienna
BEGIN:DAYLIGHT
TZOFFSETFROM:+0100
TZOFFSETTO:+0200
TZNAME:CEST
DTSTART:20210328T010000
END:DAYLIGHT
BEGIN:STANDARD
TZOFFSETFROM:+0200
TZOFFSETTO:+0100
TZNAME:CET
DTSTART:20211031T010000
END:STANDARD
BEGIN:DAYLIGHT
TZOFFSETFROM:+0100
TZOFFSETTO:+0200
TZNAME:CEST
DTSTART:20220327T010000
END:DAYLIGHT
BEGIN:STANDARD
TZOFFSETFROM:+0200
TZOFFSETTO:+0100
TZNAME:CET
DTSTART:20221030T010000
END:STANDARD
BEGIN:DAYLIGHT
TZOFFSETFROM:+0100
TZOFFSETTO:+0200
TZNAME:CEST
DTSTART:20230326T010000
END:DAYLIGHT
BEGIN:STANDARD
TZOFFSETFROM:+0200
TZOFFSETTO:+0100
TZNAME:CET
DTSTART:20231029T010000
END:STANDARD
BEGIN:DAYLIGHT
TZOFFSETFROM:+0100
TZOFFSETTO:+0200
TZNAME:CEST
DTSTART:20240331T010000
END:DAYLIGHT
BEGIN:STANDARD
TZOFFSETFROM:+0200
TZOFFSETTO:+0100
TZNAME:CET
DTSTART:20241027T010000
END:STANDARD
END:VTIMEZONE
BEGIN:VEVENT
DTSTART;TZID=Europe/Vienna:20231226T190000
DTEND;TZID=Europe/Vienna:20231226T230000
DTSTAMP:20260420T140844
CREATED:20231024T172630Z
LAST-MODIFIED:20250225T164542Z
UID:1965-1703617200-1703631600@www.jazzland.co.at
SUMMARY:Big Joe`s New Orleans Band
DESCRIPTION:Ebenfalls zu einer lieb gewordenen Tradition ist der Auftritt der „Big Joe’s New Orleans Band“ nach Weihnachten geworden. Gegründet von „Big Joe“ Gerd Stächelin präsentiert uns die Band heißen New-Orleans-Jazz\, Blues und Spirituals\, die allen Weihnachtstress so unwiderstehlich hinwegspülen\, wie der Mississippi unaufhaltsam durch Louisiana strömt. Wir freuen uns auf Kurt Peyer tp\, Claus Nemeth cl\,harm\, Alwin Miller cl.sax\, Wolfgang Straka tb\, Franz Luttenberger p\, Thomas Scherrer bjo\, Peter Strutzenberger b & Wolfgang Dorer dm.
URL:https://www.jazzland.co.at/event/big-joes-new-orleans-band/
LOCATION:Jazzland\, Franz-Josefskai 29\, Wien\, Wien\, 1010\, Österreich
CATEGORIES:(Traditional)
ATTACH;FMTTYPE=image/jpeg:https://www.jazzland.co.at/wp-content/uploads/2023/10/D72_7823-scaled.jpg
END:VEVENT
BEGIN:VEVENT
DTSTART;TZID=Europe/Vienna:20230930T190000
DTEND;TZID=Europe/Vienna:20230930T230000
DTSTAMP:20260420T140844
CREATED:20230825T144234Z
LAST-MODIFIED:20230825T144234Z
UID:1727-1696100400-1696114800@www.jazzland.co.at
SUMMARY:The New Blue Note Six
DESCRIPTION:Das Repertoire der Band besteht vor allem aus melodischem Old (Classic) Jazz\, Swing und Boogie-Woogie\, wir freuen uns auf Walter Kortan tp\, David Marsall cl & sax\, Andreas Mittermayer tb\, Cili Marsall p\, Thomas Scherrer g & bjo & Peter Strutzenberger b.
URL:https://www.jazzland.co.at/event/the-new-blue-note-six/
LOCATION:Jazzland\, Franz-Josefskai 29\, Wien\, Wien\, 1010\, Österreich
CATEGORIES:(Traditional)
ATTACH;FMTTYPE=image/jpeg:https://www.jazzland.co.at/wp-content/uploads/2023/01/D72_2017-scaled.jpg
END:VEVENT
BEGIN:VEVENT
DTSTART;TZID=Europe/Vienna:20230920T190000
DTEND;TZID=Europe/Vienna:20230920T230000
DTSTAMP:20260420T140844
CREATED:20230825T141010Z
LAST-MODIFIED:20230825T141010Z
UID:1709-1695236400-1695250800@www.jazzland.co.at
SUMMARY:Stanton Bigband
DESCRIPTION:Fletcher Henderson\, Count Basie und Duke Ellington waren die ersten großen Bigband-Bosse der Swing-Ära und somit die Idole dieser fast schon ehrwürdigen Bigband (über 250 Auftritte im Jazzland\, 70 Bandmitglieder\, 143 Substituten)\, die seit rund 50 Jahren unser Programm bereichert – wir freuen uns auf David Mayrl\, Helmut Strobl as; Günter Bruckner\, Hartwig Eitler ts; Helmut Schiener bs; Gerald Pfister\, Walter Fend\, Franz Binder\, Helmut Grussmann tp; Joe Pinkl\, Markus Eckl\, Paul Müller tb; Uli Datler p\, Martin Bayer g\, Peter Strutzenberger b\, Alexander Dostal dm.
URL:https://www.jazzland.co.at/event/stanton-bigband-3/
LOCATION:Jazzland\, Franz-Josefskai 29\, Wien\, Wien\, 1010\, Österreich
CATEGORIES:(Swing)
END:VEVENT
BEGIN:VEVENT
DTSTART;TZID=Europe/Vienna:20230823T210000
DTEND;TZID=Europe/Vienna:20230823T235900
DTSTAMP:20260420T140844
CREATED:20230626T200116Z
LAST-MODIFIED:20230626T200116Z
UID:1646-1692824400-1692835140@www.jazzland.co.at
SUMMARY:Vienna Bigband Project
DESCRIPTION:Es ist mit Sicherheit nicht leicht\, inmitten der Urlaubszeit eine komplette Big Band zusammenzustellen und wir freuen uns sehr\, dass es dem Vienna Bigband Project dennoch gelungen ist.  Anton Stift cond\, Thessa Habeler voc\, Eva Binder\, David Mayrl\, Michel Nahabedian\, Josef Vocitko\, Manfred Nowotny saxes; Beppo Skranc\, Klaus Zirngast\, Robert Maiß\, Andreas Schneider tb; Jan Kolaja\, Rudi Dasek\, Gerhard Aflenzer\, Johann Pauli Haberl\, Gabriele Roithner\, Franz Binder tp\, Uli Datler p\, Peter Strutzenberger b\, Roland Stonek g\, Gerhard Bergauer & Hermann Wallner dm & Christian Nestelberger perc.
URL:https://www.jazzland.co.at/event/vienna-bigband-project-2/
LOCATION:Jazzland\, Franz-Josefskai 29\, Wien\, Wien\, 1010\, Österreich
CATEGORIES:(Swing)
END:VEVENT
BEGIN:VEVENT
DTSTART;TZID=Europe/Vienna:20230515T210000
DTEND;TZID=Europe/Vienna:20230515T210000
DTSTAMP:20260420T140844
CREATED:20230430T180234Z
LAST-MODIFIED:20230430T180234Z
UID:1467-1684184400-1684184400@www.jazzland.co.at
SUMMARY:BETTY BLUE JAZZ QUARTETT
DESCRIPTION:Ramona Steiner voc\, Gidon Oechsner g\, Thomas Scherrer g\, Christian Müller cl\,sax & Peter Strutzenberger b präsentieren Swing\, Blues & Bebop sowie Swing-Standards aus den 30er und 40er Jahren. Wir freuen uns auf einen weiteren Abend mit dieser Thomas großartigen Bane
URL:https://www.jazzland.co.at/event/betty-blue-jazz-quartett/
LOCATION:Jazzland\, Franz-Josefskai 29\, Wien\, Wien\, 1010\, Österreich
CATEGORIES:(Swing)
END:VEVENT
BEGIN:VEVENT
DTSTART;TZID=Europe/Vienna:20230412T210000
DTEND;TZID=Europe/Vienna:20230412T210000
DTSTAMP:20260420T140844
CREATED:20230330T074040Z
LAST-MODIFIED:20230330T074545Z
UID:1358-1681333200-1681333200@www.jazzland.co.at
SUMMARY:Stanton Bigband
DESCRIPTION:Eine Bigband am Leben zu erhalten\, ist – wenn überhaupt – nur möglich\, wenn die Musiker über einen schier überbordenden Idealismus verfügen. Die Auftrittsmöglichkeiten sind rar\, die Gagen klein und der Aufwand für Proben groß – das alles hindert David Mayrl\, Helmut Strobl as\, Günter Bruckner\, Hartwig Eitler ts\, Helmut Schiener bs\, Gerald Pfister\, Walter Fend\, Franz Binder\, Helmut Jazzy Grussmann tp; Adam Ladanyi\, Markus Eckl\, Christina Lachberger tb; Barbara Rektenwald p\, Martin Bayer g\, Peter Strutzenberger b & Alexander Dostal dm nicht\, immer wieder mit großer Freude seit Jahrzehnten im JAZZLAND zu swingen…
URL:https://www.jazzland.co.at/event/stanton-bigband/
LOCATION:Jazzland\, Franz-Josefskai 29\, Wien\, Wien\, 1010\, Österreich
CATEGORIES:(Swing)
ATTACH;FMTTYPE=image/jpeg:https://www.jazzland.co.at/wp-content/uploads/2021/10/D72_5439-scaled.jpg
END:VEVENT
BEGIN:VEVENT
DTSTART;TZID=Europe/Vienna:20230317T210000
DTEND;TZID=Europe/Vienna:20230317T210000
DTSTAMP:20260420T140844
CREATED:20230402T145932Z
LAST-MODIFIED:20230402T150029Z
UID:1405-1679086800-1679086800@www.jazzland.co.at
SUMMARY:Stanton Bigband
DESCRIPTION:Eine Bigband am Leben zu erhalten\, ist – wenn überhaupt – nur möglich\, wenn die Musiker über einen schier überbordenden Idealismus verfügen. Die Auftrittsmöglichkeiten sind rar\, die Gagen klein und der Aufwand für Proben groß – das alles hindert David Mayrl\, Helmut Strobl as\, Günter Bruckner\, Hartwig Eitler ts\, Helmut Schiener bs\, Gerald Pfister\, Walter Fend\, Franz Binder\, Helmut Jazzy Grussmann tp; Adam Ladanyi\, Markus Eckl\, Christina Lachberger tb; Barbara Rektenwald p\, Martin Bayer g\, Peter Strutzenberger b & Alexander Dostal dm nicht\, immer wieder mit großer Freude seit Jahrzehnten im JAZZLAND zu swingen.
URL:https://www.jazzland.co.at/event/stanton-bigband-2/
LOCATION:Jazzland\, Franz-Josefskai 29\, Wien\, Wien\, 1010\, Österreich
CATEGORIES:(Swing)
END:VEVENT
BEGIN:VEVENT
DTSTART;TZID=Europe/Vienna:20230308T210000
DTEND;TZID=Europe/Vienna:20230308T235900
DTSTAMP:20260420T140844
CREATED:20230308T174018Z
LAST-MODIFIED:20260217T212333Z
UID:1297-1678309200-1678319940@www.jazzland.co.at
SUMMARY:Betty Blue Jazz Quartett feat. Ramona Steiner
DESCRIPTION:Im Programm von Ramona Steiner voc\, Gidon Oechsner g\, Thomas Scherrer g\, Christian Müller cl\,sax & Peter Strutzenberger b stehen Swing\, Blues & Bebop sowie Swing-Standards aus den 30er und 40er Jahren…eine äußerst hörenswerte Band! (g) \n  \n 
URL:https://www.jazzland.co.at/event/betty-blue-jazz-quartett-feat-ramona-steiner/
LOCATION:Jazzland\, Franz-Josefskai 29\, Wien\, Wien\, 1010\, Österreich
CATEGORIES:(Swing)
END:VEVENT
BEGIN:VEVENT
DTSTART;TZID=Europe/Vienna:20221226T190000
DTEND;TZID=Europe/Vienna:20221226T235900
DTSTAMP:20260420T140844
CREATED:20221104T134003Z
LAST-MODIFIED:20251217T161753Z
UID:973-1672081200-1672099140@www.jazzland.co.at
SUMMARY:Big Joe’s New Orleans Jazzband
DESCRIPTION:Die Zeit um den heiligen Abend ist auch bei uns vollgespickt mit langjähriger Tradition. Viele\, viele Jahre lang spielte stets Art Farmer mit seinem europäischen Quartett bei uns\, mittlerweile mussten ja leider andere Künstler diese Fußstapfen füllen – und tun dies mit Bravour. Eine jahrzehntelange Tradition ist mittlerweile Big Joe am 26.12. – so natürlich auch in unserem ausklingenden Jubiläumsjahr. Auf der Bühne Kurt Payer tp\, Claus Nemeth cl\, Wolfgang Straka tb\, Paul Payer bjo\, Franz Luttenberger p\, Peter Strutzenberger b\, Wolfgang Dorer dr & Gerhard Stächelin voc & tp & p.
URL:https://www.jazzland.co.at/event/big-joes-new-orleans-jazzband/
LOCATION:Jazzland\, Franz-Josefskai 29\, Wien\, Wien\, 1010\, Österreich
CATEGORIES:(Traditional)
ATTACH;FMTTYPE=image/png:https://www.jazzland.co.at/wp-content/uploads/2022/11/Gerd-Staechelin.png
END:VEVENT
END:VCALENDAR